BEGIN:VCALENDAR
VERSION:2.0
PRODID:-//Future Leaders Academy - ECPv6.15.18//NONSGML v1.0//EN
CALSCALE:GREGORIAN
METHOD:PUBLISH
X-WR-CALNAME:Future Leaders Academy
X-ORIGINAL-URL:https://flacademy.cd
X-WR-CALDESC:Events for Future Leaders Academy
REFRESH-INTERVAL;VALUE=DURATION:PT1H
X-Robots-Tag:noindex
X-PUBLISHED-TTL:PT1H
BEGIN:VTIMEZONE
TZID:Europe/Paris
BEGIN:DAYLIGHT
TZOFFSETFROM:+0100
TZOFFSETTO:+0200
TZNAME:CEST
DTSTART:20240331T010000
END:DAYLIGHT
BEGIN:STANDARD
TZOFFSETFROM:+0200
TZOFFSETTO:+0100
TZNAME:CET
DTSTART:20241027T010000
END:STANDARD
BEGIN:DAYLIGHT
TZOFFSETFROM:+0100
TZOFFSETTO:+0200
TZNAME:CEST
DTSTART:20250330T010000
END:DAYLIGHT
BEGIN:STANDARD
TZOFFSETFROM:+0200
TZOFFSETTO:+0100
TZNAME:CET
DTSTART:20251026T010000
END:STANDARD
BEGIN:DAYLIGHT
TZOFFSETFROM:+0100
TZOFFSETTO:+0200
TZNAME:CEST
DTSTART:20260329T010000
END:DAYLIGHT
BEGIN:STANDARD
TZOFFSETFROM:+0200
TZOFFSETTO:+0100
TZNAME:CET
DTSTART:20261025T010000
END:STANDARD
END:VTIMEZONE
BEGIN:VEVENT
DTSTART;TZID=Europe/Paris:20250317T073000
DTEND;TZID=Europe/Paris:20250521T153000
DTSTAMP:20260419T174137
CREATED:20250106T063605Z
LAST-MODIFIED:20250106T063605Z
UID:3248-1742196600-1747841400@flacademy.cd
SUMMARY:Exam Review Week
DESCRIPTION:
URL:https://flacademy.cd/event/exam-review-week-2/
END:VEVENT
BEGIN:VEVENT
DTSTART;TZID=Europe/Paris:20250324T080000
DTEND;TZID=Europe/Paris:20250528T153000
DTSTAMP:20260419T174137
CREATED:20250106T063729Z
LAST-MODIFIED:20250106T063729Z
UID:3250-1742803200-1748446200@flacademy.cd
SUMMARY:Trimester 2 Oral Exam Presentation
DESCRIPTION:
URL:https://flacademy.cd/event/trimester-2-oral-exam-presentation/
END:VEVENT
BEGIN:VEVENT
DTSTART;TZID=Europe/Paris:20250501T080000
DTEND;TZID=Europe/Paris:20250501T170000
DTSTAMP:20260419T174137
CREATED:20250106T064506Z
LAST-MODIFIED:20250106T064506Z
UID:3262-1746086400-1746118800@flacademy.cd
SUMMARY:Labour Day- School is closed
DESCRIPTION:
URL:https://flacademy.cd/event/labour-day-school-is-closed/
END:VEVENT
BEGIN:VEVENT
DTSTART;TZID=Europe/Paris:20250516T080000
DTEND;TZID=Europe/Paris:20250516T170000
DTSTAMP:20260419T174137
CREATED:20250106T064600Z
LAST-MODIFIED:20250106T064600Z
UID:3264-1747382400-1747414800@flacademy.cd
SUMMARY:LIberation Day- School is closed
DESCRIPTION:
URL:https://flacademy.cd/event/liberation-day-school-is-closed/
END:VEVENT
BEGIN:VEVENT
DTSTART;TZID=Europe/Paris:20250530T073000
DTEND;TZID=Europe/Paris:20250530T153000
DTSTAMP:20260419T174137
CREATED:20250106T064711Z
LAST-MODIFIED:20250106T064711Z
UID:3266-1748590200-1748619000@flacademy.cd
SUMMARY:Parent Teacher Conference Day
DESCRIPTION:
URL:https://flacademy.cd/event/parent-teacher-conference-day-3/
END:VEVENT
END:VCALENDAR